BEGIN:VCALENDAR
VERSION:2.0
PRODID:icalendar-ruby
CALSCALE:GREGORIAN
METHOD:PUBLISH
BEGIN:VEVENT
DTSTAMP:20260420T110707Z
UID:58-384980@woodburyumc.net
DTSTART:20260504T034500Z
DTEND:20260504T180000Z
CLASS:PUBLIC
CREATED:20260308T131405
DESCRIPTION:
LAST-MODIFIED:20260308T131405
LOCATION:Wesley Room
SUMMARY:Education Committee
URL;VALUE=URI:https://www.woodburyumc.net/events/education-committee/2026-0
 5-03
END:VEVENT
END:VCALENDAR
