BEGIN:VCALENDAR
VERSION:2.0
PRODID:icalendar-ruby
CALSCALE:GREGORIAN
METHOD:PUBLISH
BEGIN:VEVENT
DTSTAMP:20260420T111914Z
UID:83-468311@woodburyumc.net
DTSTART:20260426T123000Z
DTEND:20260426T133000Z
CLASS:PUBLIC
CREATED:20260411T104516
DESCRIPTION:Attendees this month should have read Peace Like A River by L
 eif Enger.  The following is the schedule through June before we take our
  summer break:\n    May 31: The Poisonwood Bible by Barbara Kingsolver\n
     June 28: James by Percival Everett\n \nIf you would like help obtai
 ning a copy of any of these books\, please see or contact Christine Shupen
 is at cshupenis@gmail.com or 203.206.2848.
LAST-MODIFIED:20260411T104516
LOCATION:Fellowship Hall
SUMMARY:Faith and Fiction Book Club
URL;VALUE=URI:https://www.woodburyumc.net/events/faith-and-fiction-book-clu
 b--83/2026-04-26
ATTACH;FILENAME=Book club.JPG;FMTTYPE=image/jpeg:https://dq5pwpg1q8ru0.clou
 dfront.net/2026/04/11/14/45/15/27491d6d-98c6-45bf-b744-654655850fbb/Book%2
 0club.JPG
END:VEVENT
END:VCALENDAR
