BEGIN:VCALENDAR
VERSION:2.0
PRODID:icalendar-ruby
CALSCALE:GREGORIAN
METHOD:PUBLISH
BEGIN:VEVENT
DTSTAMP:20260420T073224Z
UID:72-488377@woodburyumc.net
DTSTART:20260531T153000Z
DTEND:20260531T170000Z
CLASS:PUBLIC
CREATED:20260419T095807
DESCRIPTION: \n\n\n\n\n\n\n\n\n\n\n\n \n\n\n\n\n\n\n\n\n\n\n\n\n\n\n\n\n\
 n\n\n\nPastor Brian’s last Sunday with us will be Sunday\, May 31 and th
 at is the day that we will wish him and Carol well at a luncheon right aft
 er our service\, from 11:45 to 1:00pm in Fellowship Hall. We’ll be servi
 ng quiches\, salads and desserts.  We ask that you sign up to bring one o
 f these items. Pastor Brian would love to receive a personalized card from
  each of us which we will collect and present to him on that day. Sign up 
 sheets will be available on our website\, in the foyer and down in Fellows
 hip Hall.\nRSVP to attend &amp\; sign up to bring a needed item online at
  https://www.signupgenius.com/go/10C0A45AEAD2CA6FACE9-63591718-pastor#/or
  on the paper sign-up sheet in Fellowship Hall.\n\n\n\n\n\n\n\n\n\n\n\n\n
LAST-MODIFIED:20260419T095807
LOCATION:Fellowship Hall
SUMMARY:Pastor Brian & Carol's Farewell Luncheon
URL;VALUE=URI:https://www.woodburyumc.net/events/pastor-brian-carols-farewe
 ll-luncheon/2026-05-31
ATTACH;FILENAME=Farewell-5-31-2026-Flyer-Full-Page.png;FMTTYPE=image/png:ht
 tps://dq5pwpg1q8ru0.cloudfront.net/2026/04/19/13/53/14/2df9b8ad-1629-45ef-
 a522-42ad1af7b5f0/Farewell-5-31-2026-Flyer-Full-Page.png
END:VEVENT
END:VCALENDAR
